Workbook

Sheet 施設供用申込書(放射光)
A1: 申込年月日： | C1: 令和 年 月 日 | N1: 受付番号
A2: ※申込書の黄色部分のみ入力してください。 申込書（1枚）、承諾書（利用者控、機構控 2枚）の計3枚印刷の上、ご提出ください。 4枚目の実施報告書は実験終了後、原子力機構にて作成いたします。 | N2: 受付月日
A4: 施設供用申込書(放射光）
A5: 国立研究開発法人日本原子力研究開発機構
A6: 研究開発推進部長 殿
A7: 施設供用約款に基づき、施設の利用を以下のとおり申し込みます。
A8: 申込者 | B8: 所属機関名
B9: 所属機関住所
B10: 所属長・代表者名
A12: 施設利用者 | B12: 所属機関名
B13: 所属機関住所
B14: 所属部署 | E14: 所属
B15: 研究代表者 （※1） | E15: 氏名 | J15: E-mail
J16: TEL | N16: FAX
B17: 請求書送付先 | E17: 部署
E18: 担当者
E19: TEL | K19: E-mail
E20: 請求書の種類 | G20: ☐ | H20: 公印省略（PDF） | L20: ☐ | M20: 電子公印の印影（PDF）
B21: その他の研究協力者 （※2） (書ききれない場合は行を追加してください。) | E21: 氏名： | K21: E-mail：
E22: 氏名： | K22: E-mail：
E23: 氏名： | K23: E-mail：
E24: 氏名： | K24: E-mail：
E25: 氏名： | K25: E-mail：
E26: 氏名： | K26: E-mail：
E27: 氏名： | K27: E-mail：
E28: 氏名： | K28: E-mail：
B29: ※1：現場での代表となられる方の氏名を御記入ください。 ※2：施設を利用される方、全てを御記入ください。
A30: テーマと目的 | B30: 課題番号 | D30: (例：06A-EXX） | G30: 課題名 | I30: （例：XXXのNNNNNの解析）
B33: 供用施設名
B34: 利用区分 （いずれか１つにチェックしてください。）
D35: □ | E35: 成果非占有 一般課題 | L35: □ | M35: 成果占有 一般課題
D36: □ | E36: 成果非占有 優先利用課題 | L36: □ | M36: 成果占有 一般課題（随時）
L37: □ | M37: 成果占有 利用促進課題
B38: 利用目的
A42: データ提供 （ARIM※3課題のみ） | D42: マテリアル先端リサーチインフラ事業に係る特約条項に基づき
G43: □ | H43: データ提供あり | L43: □ | M43: データ提供なし
B44: ※3：文部科学省マテリアル先端リサーチインフラ事業
A45: 利用希望月日 | I45: ～ | Q45: 日間 | S45: 物質科学研究センター研究推進室 保存期間3年
A46: （役務提供、技術指導及び消耗品機材など）
A47: 追加経費 | B47: 役務提供、技術指導及び消耗品機材の利用などを希望(有料) | M47: □ | N47: する | P47: □ | Q47: しない
...

Sheet 施設供用承諾書(放射光)（利用者控え）
R1: （利用者控え）
A2: 承諾年月日： | C2: 令和 年 月 日 | N2: 受付番号 | P2: =IF('施設供用申込書(放射光)'!$P$1="","",'施設供用申込書(放射光)'!$P$1)
N3: 受付月日 | P3: =IF('施設供用申込書(放射光)'!$P$2="","",'施設供用申込書(放射光)'!$P$2)
A4: 施設供用承諾書(放射光）
A5: =IF('施設供用申込書(放射光)'!$E$8="","",'施設供用申込書(放射光)'!$E$8)
A6: =IF('施設供用申込書(放射光)'!$E$10="","",'施設供用申込書(放射光)'!$E$10) | H6: 殿
R7: 国立研究開発法人日本原子力研究開発機構
R8: 研究開発推進部長
A9: 施設供用約款に基づき、施設の利用を以下のとおり承諾します。
A11: 施設利用者 | B11: 所属機関名 | E11: =IF('施設供用申込書(放射光)'!$E$12="","",'施設供用申込書(放射光)'!$E$12)
B12: 所属機関住所 | E12: =IF('施設供用申込書(放射光)'!$E$13="","",'施設供用申込書(放射光)'!$E$13)
B13: 所属部署 | E13: 所属 | F13: =IF('施設供用申込書(放射光)'!$F$14="","",'施設供用申込書(放射光)'!$F$14)
B14: 研究代表者 （※1） | E14: 氏名 | F14: =IF('施設供用申込書(放射光)'!$F$15="","",'施設供用申込書(放射光)'!$F$15) | J14: E-mail | L14: =IF('施設供用申込書(放射光)'!$L$15="","",'施設供用申込書(放射光)'!$L$15)
J15: TEL | K15: =IF('施設供用申込書(放射光)'!$K$16="","",'施設供用申込書(放射光)'!$K$16) | N15: FAX | O15: =IF('施設供用申込書(放射光)'!$O$16="","",'施設供用申込書(放射光)'!$O$16)
B16: 請求書送付先 | E16: 部署
E17: 担当者
E18: TEL | K18: E-mail
E19: 請求書の種類 | G19: =IF('施設供用申込書(放射光)'!$G$20="","",'施設供用申込書(放射光)'!$G$20) -> ☐ | H19: 公印省略（PDF） | L19: =IF('施設供用申込書(放射光)'!$L$20="","",'施設供用申込書(放射光)'!$L$20) -> ☐ | M19: 電子公印の印影（PDF）
B20: その他の研究協力者 （※2） (書ききれない場合は行を追加してください。) | E20: 氏名： | F20: =IF('施設供用申込書(放射光)'!F$21="","",'施設供用申込書(放射光)'!$F$21) | K20: E-mail： | M20: =IF('施設供用申込書(放射光)'!M$21="","",'施設供用申込書(放射光)'!$M$21)
E21: 氏名： | F21: =IF('施設供用申込書(放射光)'!F$22="","",'施設供用申込書(放射光)'!$F$22) | K21: E-mail： | M21: =IF('施設供用申込書(放射光)'!M$22="","",'施設供用申込書(放射光)'!$M$22)
E22: 氏名： | F22: =IF('施設供用申込書(放射光)'!F$23="","",'施設供用申込書(放射光)'!$F$23) | K22: E-mail： | M22: =IF('施設供用申込書(放射光)'!M$23="","",'施設供用申込書(放射光)'!$M$23)
E23: 氏名： | F23: =IF('施設供用申込書(放射光)'!F$24="","",'施設供用申込書(放射光)'!$F$24) | K23: E-mail： | M23: =IF('施設供用申込書(放射光)'!M$24="","",'施設供用申込書(放射光)'!$M$24)
E24: 氏名： | F24: =IF('施設供用申込書(放射光)'!F$25="","",'施設供用申込書(放射光)'!$F$25) | K24: E-mail： | M24: =IF('施設供用申込書(放射光)'!M$25="","",'施設供用申込書(放射光)'!$M$25)
E25: 氏名： | F25: =IF('施設供用申込書(放射光)'!F$26="","",'施設供用申込書(放射光)'!$F$26) | K25: E-mail： | M25: =IF('施設供用申込書(放射光)'!M$26="","",'施設供用申込書(放射光)'!$M$26)
E26: 氏名： | F26: =IF('施設供用申込書(放射光)'!F$27="","",'施設供用申込書(放射光)'!$F$27) | K26: E-mail： | M26: =IF('施設供用申込書(放射光)'!M$27="","",'施設供用申込書(放射光)'!$M$27)
E27: 氏名： | F27: =IF('施設供用申込書(放射光)'!F$28="","",'施設供用申込書(放射光)'!$F$28) | K27: E-mail： | M27: =IF('施設供用申込書(放射光)'!M$28="","",'施設供用申込書(放射光)'!$M$28)
B28: ※1：現場での代表となられる方の氏名を御記入ください。 ※2：施設を利用される方、全てを御記入ください。
A29: テーマと目的 | B29: 課題番号 | D29: ='施設供用申込書(放射光)'!D30:F30 -> (例：06A-EXX） | G29: 課題名 | I29: =IF('施設供用申込書(放射光)'!$I$30="","",'施設供用申込書(放射光)'!$I$30) -> （例：XXXのNNNNNの解析）
D30: =IF('施設供用申込書(放射光)'!D$31="","",'施設供用申込書(放射光)'!$D$31) | I30: =IF('施設供用申込書(放射光)'!I$31="","",'施設供用申込書(放射光)'!$I$31)
B32: 供用施設名 | D32: =IF('施設供用申込書(放射光)'!$D$33="","",'施設供用申込書(放射光)'!$D$33)
B33: 利用区分 （いずれか１つにチェックしてください。）
D34: =IF('施設供用申込書(放射光)'!D$35="","",'施設供用申込書(放射光)'!$D$35) -> □ | E34: 成果非占有 一般課題 | L34: =IF('施設供用申込書(放射光)'!L$35="","",'施設供用申込書(放射光)'!$L$35) -> □ | M34: 成果占有 一般課題
D35: =IF('施設供用申込書(放射光)'!D$36="","",'施設供用申込書(放射光)'!$D$36) -> □ | E35: 成果非占有 優先利用課題 | L35: =IF('施設供用申込書(放射光)'!L$36="","",'施設供用申込書(放射光)'!$L$36) -> □ | M35: 成果占有 一般課題（随時）
L36: =IF('施設供用申込書(放射光)'!L$37="","",'施設供用申込書(放射光)'!$L$37) -> □ | M36: 成果占有 利用促進課題
B37: 利用目的 | D37: =IF('施設供用申込書(放射光)'!$D$38="","",'施設供用申込書(放射光)'!$D$38)
A41: データ提供 （ARIM※3課題のみ） | D41: マテリアル先端リサーチインフラ事業に係る特約条項に基づき
G42: =IF('施設供用申込書(放射光)'!G$43="","",'施設供用申込書(放射光)'!$G$43) -> □ | H42: データ提供あり | L42: =IF('施設供用申込書(放射光)'!L$43="","",'施設供用申込書(放射光)'!$L$43) -> □ | M42: データ提供なし
B43: ※3：文部科学省マテリアル先端リサーチインフラ事業
A44: 利用月日 | D44: =IF('施設供用申込書(放射光)'!D$45="","",'施設供用申込書(放射光)'!$D$45) | I44: ～ | J44: =IF('施設供用申込書(放射光)'!J$45="","",'施設供用申込書(放射光)'!$J$45) | P44: ='施設供用申込書(放射光)'!P45 -> 0 | Q44: 日間
A45: （役務提供、技術指導及び消耗品機材など）
...

Sheet 施設供用承諾書(放射光)（機構控え）
R1: （機構控え）
A2: 承諾年月日： | C2: 令和 年 月 日 | N2: 受付番号 | P2: =IF('施設供用申込書(放射光)'!$P$1="","",'施設供用申込書(放射光)'!$P$1)
N3: 受付月日 | P3: =IF('施設供用申込書(放射光)'!$P$2="","",'施設供用申込書(放射光)'!$P$2)
A4: 施設供用承諾書(放射光）
A5: =IF('施設供用申込書(放射光)'!$E$8="","",'施設供用申込書(放射光)'!$E$8)
A6: =IF('施設供用申込書(放射光)'!$E$10="","",'施設供用申込書(放射光)'!$E$10) | H6: 殿
I7: 研究連携成果展開部長 | R7: 国立研究開発法人日本原子力研究開発機構
R8: 研究開発推進部長
I9: 施設担当課 | O9: 研究推進課
I10: 課長 | K10: TL | M10: 担当者 | O10: 課長 | Q10: 担当者
A12: 施設供用約款に基づき、施設の利用を以下のとおり承諾します。
A13: 施設利用者 | B13: 所属機関名 | E13: =IF('施設供用申込書(放射光)'!$E$12="","",'施設供用申込書(放射光)'!$E$12)
B14: 所属機関住所 | E14: =IF('施設供用申込書(放射光)'!$E$13="","",'施設供用申込書(放射光)'!$E$13)
B15: 所属部署 | E15: 所属 | F15: =IF('施設供用申込書(放射光)'!$F$14="","",'施設供用申込書(放射光)'!$F$14)
B16: 研究代表者 （※1） | E16: 氏名 | F16: =IF('施設供用申込書(放射光)'!$F$15="","",'施設供用申込書(放射光)'!$F$15) | J16: E-mail | L16: =IF('施設供用申込書(放射光)'!$L$15="","",'施設供用申込書(放射光)'!$L$15)
J17: TEL | K17: =IF('施設供用申込書(放射光)'!$K$16="","",'施設供用申込書(放射光)'!$K$16) | N17: FAX | O17: =IF('施設供用申込書(放射光)'!$O$16="","",'施設供用申込書(放射光)'!$O$16)
B18: 請求書送付先 | E18: 部署
E19: 担当者
E20: TEL | K20: E-mail
E21: 請求書の種類 | G21: =IF('施設供用申込書(放射光)'!$G$20="","",'施設供用申込書(放射光)'!$G$20) -> ☐ | H21: 公印省略（PDF） | L21: =IF('施設供用申込書(放射光)'!$L$20="","",'施設供用申込書(放射光)'!$L$20) -> ☐ | M21: 電子公印の印影（PDF）
B22: その他の研究協力者 （※2） (書ききれない場合は行を追加してください。) | E22: 氏名： | F22: =IF('施設供用申込書(放射光)'!F$21="","",'施設供用申込書(放射光)'!$F$21) | K22: E-mail： | M22: =IF('施設供用申込書(放射光)'!M$21="","",'施設供用申込書(放射光)'!$M$21)
E23: 氏名： | F23: =IF('施設供用申込書(放射光)'!F$22="","",'施設供用申込書(放射光)'!$F$22) | K23: E-mail： | M23: =IF('施設供用申込書(放射光)'!M$22="","",'施設供用申込書(放射光)'!$M$22)
E24: 氏名： | F24: =IF('施設供用申込書(放射光)'!F$23="","",'施設供用申込書(放射光)'!$F$23) | K24: E-mail： | M24: =IF('施設供用申込書(放射光)'!M$23="","",'施設供用申込書(放射光)'!$M$23)
E25: 氏名： | F25: =IF('施設供用申込書(放射光)'!F$24="","",'施設供用申込書(放射光)'!$F$24) | K25: E-mail： | M25: =IF('施設供用申込書(放射光)'!M$24="","",'施設供用申込書(放射光)'!$M$24)
E26: 氏名： | F26: =IF('施設供用申込書(放射光)'!F$25="","",'施設供用申込書(放射光)'!$F$25) | K26: E-mail： | M26: =IF('施設供用申込書(放射光)'!M$25="","",'施設供用申込書(放射光)'!$M$25)
E27: 氏名： | F27: =IF('施設供用申込書(放射光)'!F$26="","",'施設供用申込書(放射光)'!$F$26) | K27: E-mail： | M27: =IF('施設供用申込書(放射光)'!M$26="","",'施設供用申込書(放射光)'!$M$26)
E28: 氏名： | F28: =IF('施設供用申込書(放射光)'!F$27="","",'施設供用申込書(放射光)'!$F$27) | K28: E-mail： | M28: =IF('施設供用申込書(放射光)'!M$27="","",'施設供用申込書(放射光)'!$M$27)
E29: 氏名： | F29: =IF('施設供用申込書(放射光)'!F$28="","",'施設供用申込書(放射光)'!$F$28) | K29: E-mail： | M29: =IF('施設供用申込書(放射光)'!M$28="","",'施設供用申込書(放射光)'!$M$28)
B30: ※1：現場での代表となられる方の氏名を御記入ください。 ※2：施設を利用される方、全てを御記入ください。
A31: テーマと目的 | B31: 課題番号 | D31: =IF('施設供用申込書(放射光)'!$D$30="","",'施設供用申込書(放射光)'!$D$30) -> (例：06A-EXX） | G31: 課題名 | I31: =IF('施設供用申込書(放射光)'!$I$30="","",'施設供用申込書(放射光)'!$I$30) -> （例：XXXのNNNNNの解析）
D32: =IF('施設供用申込書(放射光)'!D$31="","",'施設供用申込書(放射光)'!$D$31) | I32: =IF('施設供用申込書(放射光)'!I$31="","",'施設供用申込書(放射光)'!$I$31)
B34: 供用施設名 | D34: =IF('施設供用申込書(放射光)'!$D$33="","",'施設供用申込書(放射光)'!$D$33)
B35: 利用区分 （いずれか１つにチェックしてください。）
D36: =IF('施設供用申込書(放射光)'!$D$35="","",'施設供用申込書(放射光)'!$D$35) -> □ | E36: 成果非占有 一般課題 | L36: =IF('施設供用申込書(放射光)'!$L$35="","",'施設供用申込書(放射光)'!$L$35) -> □ | M36: 成果占有 一般課題
D37: =IF('施設供用申込書(放射光)'!$D$36="","",'施設供用申込書(放射光)'!$D$36) -> □ | E37: 成果非占有 優先利用課題 | L37: =IF('施設供用申込書(放射光)'!$L$36="","",'施設供用申込書(放射光)'!$L$36) -> □ | M37: 成果占有 一般課題（随時）
L38: =IF('施設供用申込書(放射光)'!$L$37="","",'施設供用申込書(放射光)'!$L$37) -> □ | M38: 成果占有 利用促進課題
B39: 利用目的 | D39: =IF('施設供用申込書(放射光)'!$D$38="","",'施設供用申込書(放射光)'!$D$38)
S42: 物質科学研究センター研究推進室 保存期間3年
A43: データ提供 （ARIM※3課題のみ） | D43: マテリアル先端リサーチインフラ事業に係る特約条項に基づき
G44: =IF('施設供用申込書(放射光)'!$G$43="","",'施設供用申込書(放射光)'!$G$43) -> □ | H44: データ提供あり | L44: =IF('施設供用申込書(放射光)'!$L$43="","",'施設供用申込書(放射光)'!$L$43) -> □ | M44: データ提供なし
...

Sheet 施設供用実施報告書(放射光)
A2: 作成： | C2: 令和 年 月 日 | N2: 受付番号 | P2: =IF('施設供用申込書(放射光)'!$P$1="","",'施設供用申込書(放射光)'!$P$1)
N3: 受付月日 | P3: =IF('施設供用申込書(放射光)'!$P$2="","",'施設供用申込書(放射光)'!$P$2)
A4: 施設供用実施報告書(放射光）
A5: 研究開発推進部 研究推進課長 殿
R6: 物質科学研究センター 施設担当課長
E8: 施設担当課 | K8: 研究連携成果展開部 連携推進課
E9: 課長 | G9: 係長 | I9: 担当者 | M9: 課長 | O9: 係長 | Q9: 担当者
A11: 施設利用の実績を以下のとおり報告いたします。
A12: 施設利用者 | B12: 所属機関名 | E12: =IF('施設供用申込書(放射光)'!$E$12="","",'施設供用申込書(放射光)'!$E$12)
B13: 所属機関住所 | E13: =IF('施設供用申込書(放射光)'!$E$13="","",'施設供用申込書(放射光)'!$E$13)
B14: 所属部署 | E14: 所属 | F14: =IF('施設供用申込書(放射光)'!$F$14="","",'施設供用申込書(放射光)'!$F$14)
B15: 研究代表者 （※1） | E15: 氏名 | F15: =IF('施設供用申込書(放射光)'!$F$15="","",'施設供用申込書(放射光)'!$F$15) | J15: E-mail | L15: =IF('施設供用申込書(放射光)'!$L$15="","",'施設供用申込書(放射光)'!$L$15)
J16: TEL | K16: =IF('施設供用申込書(放射光)'!$K$16="","",'施設供用申込書(放射光)'!$K$16) | N16: FAX | O16: =IF('施設供用申込書(放射光)'!$O$16="","",'施設供用申込書(放射光)'!$O$16)
B17: 請求書送付先 | E17: 部署
E18: 担当者
E19: TEL | K19: E-mail
E20: 請求書の種類 | G20: =IF('施設供用申込書(放射光)'!$G$20="","",'施設供用申込書(放射光)'!$G$20) -> ☐ | H20: 公印省略（PDF） | L20: =IF('施設供用申込書(放射光)'!$L$20="","",'施設供用申込書(放射光)'!$L$20) -> ☐ | M20: 電子公印の印影（PDF）
A22: テーマと目的 | B22: 課題番号 | D22: =IF('施設供用申込書(放射光)'!$D$30="","",'施設供用申込書(放射光)'!$D$30) -> (例：06A-EXX） | G22: 課題名 | I22: =IF('施設供用申込書(放射光)'!$I$30="","",'施設供用申込書(放射光)'!$I$30) -> （例：XXXのNNNNNの解析）
D23: =IF('施設供用申込書(放射光)'!D$31="","",'施設供用申込書(放射光)'!$D$31) | I23: =IF('施設供用申込書(放射光)'!I$31="","",'施設供用申込書(放射光)'!$I$31)
B24: 供用施設名 | D24: =IF('施設供用申込書(放射光)'!$D$33="","",'施設供用申込書(放射光)'!$D$33)
B25: 利用区分 （いずれか１つにチェックしてください。）
D26: =IF('施設供用申込書(放射光)'!$D$35="","",'施設供用申込書(放射光)'!$D$35) -> □ | E26: 成果非占有 一般課題 | L26: =IF('施設供用申込書(放射光)'!$L$35="","",'施設供用申込書(放射光)'!$L$35) -> □ | M26: 成果占有 一般課題
D27: =IF('施設供用申込書(放射光)'!$D$36="","",'施設供用申込書(放射光)'!$D$36) -> □ | E27: 成果非占有 優先利用課題 | L27: =IF('施設供用申込書(放射光)'!$L$36="","",'施設供用申込書(放射光)'!$L$36) -> □ | M27: 成果占有 一般課題（随時）
L28: =IF('施設供用申込書(放射光)'!$L$37="","",'施設供用申込書(放射光)'!$L$37) -> □ | M28: 成果占有 利用促進課題
A31: データ提供 （ARIM※3課題のみ） | D31: マテリアル先端リサーチインフラ事業に係る特約条項に基づき
G32: =IF('施設供用申込書(放射光)'!$G$43="","",'施設供用申込書(放射光)'!$G$43) -> □ | H32: データ提供あり | L32: =IF('施設供用申込書(放射光)'!$L$43="","",'施設供用申込書(放射光)'!$L$43) -> □ | M32: データ提供なし
B33: ※3：文部科学省マテリアル先端リサーチインフラ事業
A34: 利用月日
S44: 物質科学研究センター研究推進室 保存期間3年

Sheet List
A1: BL14B1_エネルギー分散型XAFS（DXAFS）装置
A2: BL22XU_高輝度XAFS測定装置
A3: BL22XU_κ型X線回折計
A4: BL22XU_応力・イメージング測定装置
A5: BL22XU_硬X線光電子分光装置
A6: BL23SU_表面化学実験ステーション
A7: BL23SU_軟X線光電子分光装置
